BEGIN:VCALENDAR
VERSION:2.0
PRODID:-//Colegio Gimnasio Santo Rey - ECPv6.10.1//NONSGML v1.0//EN
CALSCALE:GREGORIAN
METHOD:PUBLISH
X-WR-CALNAME:Colegio Gimnasio Santo Rey
X-ORIGINAL-URL:https://www.gimnasiosantorey.edu.co/gsr
X-WR-CALDESC:Eventos para Colegio Gimnasio Santo Rey
REFRESH-INTERVAL;VALUE=DURATION:PT1H
X-Robots-Tag:noindex
X-PUBLISHED-TTL:PT1H
BEGIN:VTIMEZONE
TZID:America/New_York
BEGIN:DAYLIGHT
TZOFFSETFROM:-0500
TZOFFSETTO:-0400
TZNAME:EDT
DTSTART:20220313T070000
END:DAYLIGHT
BEGIN:STANDARD
TZOFFSETFROM:-0400
TZOFFSETTO:-0500
TZNAME:EST
DTSTART:20221106T060000
END:STANDARD
BEGIN:DAYLIGHT
TZOFFSETFROM:-0500
TZOFFSETTO:-0400
TZNAME:EDT
DTSTART:20230312T070000
END:DAYLIGHT
BEGIN:STANDARD
TZOFFSETFROM:-0400
TZOFFSETTO:-0500
TZNAME:EST
DTSTART:20231105T060000
END:STANDARD
BEGIN:DAYLIGHT
TZOFFSETFROM:-0500
TZOFFSETTO:-0400
TZNAME:EDT
DTSTART:20240310T070000
END:DAYLIGHT
BEGIN:STANDARD
TZOFFSETFROM:-0400
TZOFFSETTO:-0500
TZNAME:EST
DTSTART:20241103T060000
END:STANDARD
BEGIN:DAYLIGHT
TZOFFSETFROM:-0500
TZOFFSETTO:-0400
TZNAME:EDT
DTSTART:20250309T070000
END:DAYLIGHT
BEGIN:STANDARD
TZOFFSETFROM:-0400
TZOFFSETTO:-0500
TZNAME:EST
DTSTART:20251102T060000
END:STANDARD
END:VTIMEZONE
BEGIN:VEVENT
DTSTART;TZID=America/New_York:20250214T183000
DTEND;TZID=America/New_York:20250214T203000
DTSTAMP:20260421T101700
CREATED:20250213T144432Z
LAST-MODIFIED:20250217T155229Z
UID:8073-1739557800-1739565000@www.gimnasiosantorey.edu.co
SUMMARY:Asamblea de Padres 2025 Gimnasio Santo Rey
DESCRIPTION:La Asamblea de padres\nLa Asamblea de padres para dar a conocer los aspectos operativos de la institución y escoger los representantes de cada grupo al consejo de padres se realizará el lunes 14 de febrero a las 6:30 p.m.\nEn el orden del día de la Asamblea de padres entre otros aspectos socializaremos: \na) Manual de Convivencia y Sistema Evaluación de Educandos (Publicado en plataforma).\nb) Manejo de la plataforma interactiva – Saberes.\nc) Exoneraciones última semana activa de cada periodo\nc) Planes de mejoramiento – Finalización de periodo.\nd) Planes de refuerzo en las tardes.\ne) Procesos Disciplinarios: Horas de llegada y uniformes.\nf) Elección de 2 representantes de cada grupo al Consejo de Padres.\ng) Durante el año se realizarán 3 convocatorias académicas\, al finalizar cada periodo a los padres y/o acudientes\, los cuales deben descargar el boletín desde la plataforma Saberes. \nEs muy importante la asistencia de todos los padres de familia. \n  \nClic Para descargar: PRESENTACIÓN CONVIVENCIA ESCOLAR 2025 – COMUNIDAD EDUCATIVA \nClic Para descargar: PRESENTACIÓN SIIE 2025 – COMUNIDAD EDUCATIVA \nClic Para descargar: 2025 PRESENTACION ASAMBLEA DE PADRES 2025 ok
URL:https://www.gimnasiosantorey.edu.co/gsr/evento/asamblea-de-padres-2025-gimnasio-santo-rey/
LOCATION:Colegio Gimanasio Santo Rey\, Cra 19 #10N-37\, Armenia\, Quindio\, Colombia
ORGANIZER;CN="Adminitracion GSR":MAILTO:gimnasiosantorey@gmail.com
END:VEVENT
BEGIN:VEVENT
DTSTART;TZID=America/New_York:20220214T183000
DTEND;TZID=America/New_York:20220214T203000
DTSTAMP:20260421T101700
CREATED:20220214T130918Z
LAST-MODIFIED:20220218T164239Z
UID:5042-1644863400-1644870600@www.gimnasiosantorey.edu.co
SUMMARY:Asamblea de Padres Gimnasio Santo Rey
DESCRIPTION:La Asamblea de padres\nLa Asamblea de padres para dar a conocer los aspectos operativos de la institución y escoger los representantes de cada grupo al consejo de padres se realizará el lunes 14 de febrero a las 6:30 p.m.\nEn el orden del día de la Asamblea de padres entre otros aspectos socializaremos: \n  \n  \na) Manual de Convivencia y Sistema Evaluación de Educandos (Publicado en plataforma).\nb) Manejo de la plataforma interactiva – Saberes.\nc) Exoneraciones última semana activa de cada periodo\nc) Planes de mejoramiento – Finalización de periodo.\nd) Planes de refuerzo en las tardes.\ne) Procesos Disciplinarios: Horas de llegada y uniformes.\nf) Elección de 2 representantes de cada grupo al Consejo de Padres.\ng) Durante el año se realizarán 4 convocatorias académicas\, al finalizar cada periodo a los padres y/o acudientes\, los cuales deben descargar el boletín desde la plataforma Saberes. \nEs muy importante la asistencia de todos los padres de familia.
URL:https://www.gimnasiosantorey.edu.co/gsr/evento/asamblea-de-padres-gimnasio-santo-rey/
LOCATION:Colegio Gimanasio Santo Rey\, Cra 19 #10N-37\, Armenia\, Quindio\, Colombia
ORGANIZER;CN="Adminitracion GSR":MAILTO:gimnasiosantorey@gmail.com
END:VEVENT
END:VCALENDAR